BEGIN:VCALENDAR
VERSION:2.0
PRODID:-//wp-events-plugin.com//7.2.3.1//EN
BEGIN:VEVENT
UID:438@yoga-ist-bunt.de
DTSTART:20250201T100000Z
DTEND:20250201T180000Z
DTSTAMP:20241126T093839Z
URL:https://www.yoga-ist-bunt.de/events/integratives-yoga-zertifizierte-fo
 rtbildung-yoga-fuer-alle-mit-stuhl-2/
SUMMARY:Integratives Yoga - zertifizierte Fortbildung - Yoga für Alle mit 
 Stuhl
DESCRIPTION:In dieser praxisorientierten Fortbildung lernst du ein umfangre
 iches Angebot von Möglichkeiten kennen\, wie du den Stuhl als Hilfsmittel
 \, den Stuhl als Alternative oder Übungen nur auf dem Stuhl in deinen Yog
 aunterricht integrieren kannst. Du erlernst verschiedene Sonnengrüße und
  Varianten dazu kennen\, den Aufbau von unterschiedlichen Stundenkonzepten
  und bekommst eine Art Baukasten an die Hand wie du individuell deine Stun
 den zusammenstellen kannst.  Geeignet sind diese Übungen für Menschen m
 it körperlichen Beeinträchtigungen und Senioren in unterschiedlichem Alt
 er. \n\n\n\nAlle Informationen zur Fortbildung findest Du hier.
ATTACH;FMTTYPE=image/jpeg:https://www.yoga-ist-bunt.de/wp-content/uploads/
 2024/04/IMG_0999-scaled.jpg
CATEGORIES:Integratives Yoga,Weiterbildung
LOCATION:The Yoga Hive Hanau\, Maria-Montessori-Allee 10\, Hanau\, Hessen\,
  63457\, Deutschland
X-APPLE-STRUCTURED-LOCATION;VALUE=URI;X-ADDRESS=Maria-Montessori-Allee 10\,
  Hanau\, Hessen\, 63457\, Deutschland;X-APPLE-RADIUS=100;X-TITLE=The Yoga 
 Hive Hanau:geo:0,0
END:VEVENT
END:VCALENDAR