BEGIN:VCALENDAR
VERSION:2.0
PRODID:-//wp-events-plugin.com//7.2.3.1//EN
BEGIN:VEVENT
UID:432@yoga-ist-bunt.de
DTSTART:20240601T110000Z
DTEND:20240601T190000Z
DTSTAMP:20240525T091500Z
URL:https://www.yoga-ist-bunt.de/events/yoga-auf-dem-teller-kochen-mit-kla
 ngguru/
SUMMARY:Yoga auf dem Teller - Kochen mit Klangguru - Ausgebucht!!!
DESCRIPTION:\n\n\n\n\nEin Erlebnistag für Yogis\n\nDu hast eine Leidenscha
 ft für gutes Essen\, Freude am Kochen und du machst Yoga?\nSo einen Kochk
 urs hast du sicherlich noch nicht erlebt.\nMit Yoga denkt man oftmals an S
 port\, Gymnastik oder langweilige Philosophie.\nWas ist\, wenn wir dir ein
 en vielfältigen Kochkurs anbieten und so richtig ausleben!\nWir verbringe
 n den Tag gemeinsam\, essen gemeinsam und klingen den Tag aus mit einer Kl
 angmeditation.\nLogisch\, yogisch!\n\n"Yoga auf dem Teller"\n\nNeben einem
  Vortrag von Nadh @klangguru wird es Tipps und Tricks rund um das Zubereit
 en von Pranic Food geben. Melde dich an und bringe deine Freund*innen mit!
 \n\n\n20 € SPAREN!\nFrühbucherrabatt für nur 129 €\, anstatt 149 €
  wenn du bis zum 1. Februar 2024 deinen Platz sicherst. Sei dabei!\nVegeta
 risch glücklich.\n\n\n\nTeilnehmerzahl maximal 15\nWann: am 1. Juni 2024\
 nUhrzeit: 10 bis 18 Uhr\nWo: Karlstraße 18\, 66352 Großrosseln\n\n\nBONU
 S:\nFür 89 € kannst du dich auch bei einem Massage-Schnupperkurs mit Na
 dh @klangguru am Sonntag von 10 Bis 13 Uhr teilnehmen.\n\n
ATTACH;FMTTYPE=image/jpeg:https://www.yoga-ist-bunt.de/wp-content/uploads/
 2023/11/2023-11-23_Klangguru_Yoga-ist-bunt-01-scaled.jpg
CATEGORIES:Events,Workshop
LOCATION:Yoga-ist-bunt\, Karlstraße 18\, Großrosseln / Dorf im Warndt\, 6
 6352\, Deutschland
X-APPLE-STRUCTURED-LOCATION;VALUE=URI;X-ADDRESS=Karlstraße 18\, Großrosse
 ln / Dorf im Warndt\, 66352\, Deutschland;X-APPLE-RADIUS=100;X-TITLE=Yoga-
 ist-bunt:geo:0,0
END:VEVENT
END:VCALENDAR