BEGIN:VCALENDAR
VERSION:2.0
PRODID:-//wp-events-plugin.com//7.2.3.1//EN
BEGIN:VEVENT
UID:434@yoga-ist-bunt.de
DTSTART;VALUE=DATE:20241118
DTEND;VALUE=DATE:20250101
DTSTAMP:20241118T152744Z
URL:https://www.yoga-ist-bunt.de/events/yoga-ist-bunt-gutschein-verschenke
 -lebensfreude/
SUMMARY:Yoga-ist-bunt Gutschein - Verschenke zu Weihnachten Lebensfreude
DESCRIPTION:Yoga-ist-bunt Gutschein - Verschenke Lebensfreude\n\nVerschenke
  Lebensfreude mit einem Yoga-ist-bunt Gutschein\, den du individuell auf a
 ll unsere Angebot einlösen kannst. Wir schicken ihn dir per Post oder als
  PDF zum selbst ausdrucken zu. Es gibt 15\, 29\,49 und 100 Euro Gutscheine
 . Gerne stellen wir auch einen Wunschgutschein Wert aus.\n\n
ATTACH;FMTTYPE=image/jpeg:https://www.yoga-ist-bunt.de/wp-content/uploads/
 2023/12/Yoga-ist-bunt-22-scaled.jpg
CATEGORIES:Events,Weiterbildung,Workshop
LOCATION:Yoga-ist-bunt\, Karlstraße 18\, Großrosseln / Dorf im Warndt\, 6
 6352\, Deutschland
X-APPLE-STRUCTURED-LOCATION;VALUE=URI;X-ADDRESS=Karlstraße 18\, Großrosse
 ln / Dorf im Warndt\, 66352\, Deutschland;X-APPLE-RADIUS=100;X-TITLE=Yoga-
 ist-bunt:geo:0,0
END:VEVENT
END:VCALENDAR